BEGIN:VCALENDAR
PRODID:-//AT Content Types//AT Event//EN
VERSION:2.0
METHOD:PUBLISH
BEGIN:VEVENT
DTSTAMP:20260420T024419Z
CREATED:20070921T163449Z
UID:ATEvent-34e21cea882bb7e35a656c7b3858ab1a
LAST-MODIFIED:20120519T150302Z
SUMMARY:Hinter den Zeichen
DTSTART:20071016T190000Z
DTEND:20071113T210000Z
DESCRIPTION:Worklab\, Performances\, Präsentationen und Vorträge üb
 er die Grundlagen digitaler Kommunikation\, Codes\, Surveillance und S
 ubversion
LOCATION:Medienkunstlabor\, Kunsthaus Graz\, AT
CATEGORIES:Exhibition
CONTACT:Eva Ursprung
CLASS:PUBLIC
END:VEVENT
END:VCALENDAR
