BEGIN:VCALENDAR
PRODID:-//AT Content Types//AT Event//EN
VERSION:2.0
METHOD:PUBLISH
BEGIN:VEVENT
DTSTAMP:20260419T144922Z
CREATED:20090715T064733Z
UID:ATEvent-0ee337fa0374c66c43c0be6a1f1bc170
LAST-MODIFIED:20091201T181935Z
SUMMARY:do sinusoids dream of electric sweeps?
DTSTART:20091211T210000Z
DTEND:20091211T230000Z
DESCRIPTION:performance at make.art 2009 festival in Poitiers\, France
 
LOCATION:Planétarium de l'Espace Mendès-France\, Poitiers\, France
CATEGORIES:Performance,Concert
CONTACT:+33(0)671073691\, contact@goto10.org
URL:http://makeart.goto10.org/2009
CLASS:PUBLIC
END:VEVENT
END:VCALENDAR
