BEGIN:VCALENDAR
PRODID:-//AT Content Types//AT Event//EN
VERSION:2.0
METHOD:PUBLISH
BEGIN:VEVENT
DTSTAMP:20260419T145213Z
CREATED:20080927T141442Z
UID:ATEvent-3234ab105b7d1fe60f1ad3ed87254695
LAST-MODIFIED:20090506T152136Z
SUMMARY:do sinusoids dream of electric sweeps?
DTSTART:20081204T100000Z
DTEND:20081207T220000Z
DESCRIPTION:a live-coding performance with self-modifying code
LOCATION:Bergen\, NO
CATEGORIES:Conference,Performance,Concert
URL:http://www.piksel.no/piksel08/
CLASS:PUBLIC
END:VEVENT
END:VCALENDAR
