BEGIN:VCALENDAR
PRODID:-//AT Content Types//AT Event//EN
VERSION:1.0
BEGIN:VEVENT
DTSTART:20071124T213000Z
DTEND:20071124T230000Z
DCREATED:20071125T180024Z
UID:ATEvent-e4a752a82b9b25c9c224712586820cd0
SEQUENCE:0
LAST-MODIFIED:20071125T180211Z
SUMMARY:pd~graz @ ncc07
DESCRIPTION:performance at pd~graz at the ncc07
LOCATION:Graz\, Austria
PRIORITY:3
TRANSP:0
END:VEVENT
END:VCALENDAR
