BEGIN:VCALENDAR
PRODID:-//AT Content Types//AT Event//EN
VERSION:1.0
BEGIN:VEVENT
DTSTART:20080229T210000Z
DTEND:20080229T235500Z
DCREATED:20080116T170547Z
UID:ATEvent-7a0a5a567327881d1aa92575d11dbbf5
SEQUENCE:0
LAST-MODIFIED:20080116T171040Z
SUMMARY:rec.wie.m
DESCRIPTION:Performance at the Linux Audio Conference 2008
LOCATION:Cologne\, De
PRIORITY:3
TRANSP:0
END:VEVENT
END:VCALENDAR
