BEGIN:VCALENDAR
PRODID:-//AT Content Types//AT Event//EN
VERSION:2.0
METHOD:PUBLISH
BEGIN:VEVENT
DTSTAMP:20260420T214806Z
CREATED:20080116T170547Z
UID:ATEvent-cdb32de951dc86042c6477850d4e589d
LAST-MODIFIED:20090506T153244Z
SUMMARY:FTM4PD @ LAC
DTSTART:20080228T090000Z
DTEND:20080302T235500Z
DESCRIPTION:FTM4PD at the Linux Audio Conference 2008
LOCATION:Cologne\, De
CATEGORIES:Conference,Talk
URL:http://lac.linuxaudio.org/
CLASS:PUBLIC
END:VEVENT
END:VCALENDAR
